BEGIN:VCALENDAR
VERSION:2.0
PRODID:-//CCAP
CALSCALE:GREGORIAN
METHOD:PUBLISH
X-WR-CALNAME:CCAP
X-ORIGINAL-URL:https://ccap.co.ke/event/kenyatta-university-career-week-2023/
X-WR-CALDESC:KENYATTA UNIVERSITY CAREER WEEK 2023
BEGIN:VEVENT
DTSTART:20230128T080000
DTEND:20230203T160000
SUMMARY:KENYATTA UNIVERSITY CAREER WEEK 2023
DESCRIPTION:
LOCATION:Kenyatta University Main Campus
END:VEVENT
END:VCALENDAR
